Workbook

Sheet 0. INSTRUCTIONS TO FILL IN
A1: Instructions to fill in the Annex No. 5 of Tender Documentation - "Evaluation Model"
A3: 1. | B3: In sheet No. 1 "Evaluation Model Complete", the participant fills in only the cells marked in yellow. *1 The tender price for the purchase of the existing Machine in cell F18 (unit No. 8) will be deducted from the Participant´s total tender price
B4: *1 - The tender price for the purchase of the existing Machine in cell F18 (unit No. d9) will be deducted from the Participant´s total tender price
A5: 2. | B5: In sheet No. 2 "Annex 9 Contract_Spare parts and consumables", the participant fills in only the cells marked in yellow, in as many lines as necessary. This sheet will create Annex No. 9 of the Draft Contract 1. Unused yellow blank lines will be removed.
B6: *2 - If the frequency (column E) is less than 1x per year, the Participant shall use a pro rata multiplier (e.g. 1x in 4 years = 0,25 x 1 year).
B7: *3 - To be automatically recalculated from the completed lifetime of the Device and guaranteed service support in cell D3 of sheet no. 1 against the required lifetime of 30 years for evaluation purposes.
A8: 3. | B8: In sheet No. 3 "Annex 10 - Preventive inspections" according to the manufacturer's recommendations, the participant fills in only the cells marked in yellow, in as many lines as necessary. This sheet will create Annex No. 9 of the contract 1. Unused yellow blank lines will be removed.
B9: *4 - If the frequency (column E) is less than 1x per year, the Participant shall use a pro rata multiplier (e.g. 1x in 4 years = 0,25 x 1 year).
B10: *5 - The number of modules completed in column B must be equal to the number of modules completed in Art. II (3) of the Draft Contract 1. For each module of the offered Device there is line for individual rates of preventive inspection. If the preventive inspection (incl. their frequency and extend) vary from module to module, this shall to be stated.
B11: *6 - The Participant shall also fill in here the necessary SW maintenance and updates if recommended by the Participant of the manufacturer of the Device (unit No. pi1c, pi2c, pi3c, pi4c, pi5c, pi6c)
B12: *7 - The prices of hourly rates for preventive inspections are identical to the service prices on the sheet No. 1 and are automatically overewritten.
A13: The Participant is obliged to fill in all items known to him, i.e. consumables and spare parts that need to be ordered during the use of the offered Device over a period of 30 years, including the expected frequency over a period of 30 years (30 years means the lifetime relevant for the evaluation).
A14: If the Participant does not fill in the list of these items, including their expected frequency and prices, and the Contracting Authority further finds from the technical documents of the offered Device that the items were not filled in, although the Participant could demonstrably have anticipated their need, the Participant shall be excluded from the tender procedure. Additional filling in of items after the deadline for tender submission is not possible.

Sheet 1. Evaluation Model Complete
A1: Annex No. 5 of Tender Documentation - "Evaluation Model" - Sheet 1 "Evaluation Model Complete"
A2: Public Contract "Supply of a passport production line including numbering_reissue // Dodávka pasové linky včetně číslování_znovuvyhlášení"
A3: 0. | B3: Lifetime of the offered Device and guaranteed service support (years) - must be a min. of 10 years and max. of 30 years | C3: in accordance with the Art II (10) of the Draft Contract 1
A4: Item | B4: Note | D4: Estimated quantity (for 30 years) / Relative to the required lifetime of the Device - 30 years | E4: Unit of measurement | F4: Price per unit of measurement in EUR excl. VAT | G4: Total price in EUR excl. VAT
A5: d1 | B5: Price for the Device in EUR excl. VAT | C5: in accordance with the Art. V (2) of the Draft Contract 1 - Art II (1,2) point a), b), d) | D5: =30/D3 -> #DIV/0! | E5: Pc. | G5: =D5*F5 -> #DIV/0!
A6: d2 | B6: Price for the operators training in EUR excl. VAT | C6: (in accordance with the Art. V (2) of the Draft Contract 1 - Art II (2) point c) | D6: 1 | E6: Pc. | G6: =D6*F6 -> 0
A7: d3a | B7: Price for carrying out a preventive inspections and maintenance and providing out-of-warranty maintenance of the Device during the Contractor’s working hours (on working days from 8:00 to 18:00) in EUR excl. VAT | C7: (in accordance with the Art. V (5) point a) of the Draft Contract 1) - mechanical engineer, instructor | D7: 120 | E7: hour | G7: =D7*F7 -> 0
A8: d3b | C8: (in accordance with the Art. V (5) point a) of the Draft Contract 1) - electrical engineer, specialist | D8: 240 | E8: hour | G8: =D8*F8 -> 0
A9: d3c | C9: (in accordance with the Art. V (5) point a) of the Draft Contract 1) - SW specialist | D9: 240 | E9: hour | G9: =D9*F9 -> 0
A10: d4a | B10: Price for out-of-warranty maintenance of the Device outside the Contractor’s regular working hours (on working days from 18:00 to 8:00 in EUR excl. VAT | C10: (in accordance with the Art. V (5) point b) of the Draft Contract 1) - mechanical engineer, instructor | D10: 30 | E10: hour | G10: =D10*F10 -> 0
A11: d4b | C11: (in accordance with the Art. V (5) point b) of the Draft Contract 1) - electrical engineer, specialist | D11: 60 | E11: hour | G11: =D11*F11 -> 0
A12: d4c | C12: (in accordance with the Art. V (5) point b) of the Draft Contract 1) - SW specialist | D12: 60 | E12: hour | G12: =D12*F12 -> 0
A13: d5a | B13: Price for out-of-warranty maintenance of the Device on Saturdays and Sundays or on public holidays in EUR excl. VAT | C13: (in accordance with the Art. V (5) point c) of the Draft Contract 1) - mechanical engineer, instructor | D13: 16 | E13: hour | G13: =D13*F13 -> 0
A14: d5b | C14: (in accordance with the Art. V (5) point c) of the Draft Contract 1) - electrical engineer, specialist | D14: 32 | E14: hour | G14: =D14*F14 -> 0
A15: d5c | C15: (in accordance with the Art. V (5) point c) of the Draft Contract 1) - SW specialist | D15: 16 | E15: hour | G15: =D15*F15 -> 0
A16: d6 | B16: Lump-sum price amounting to covering all costs incurred by the Contractor’s engineer (costs of travelling to the Client’s Site and back, accommodation, travel expenses, time on the road, etc.) when conducting unscheduled servicing on the Device in EUR excl. VAT | C16: (in accordance with the Art. V (5) point d) of the Draft Contract 1) | D16: 143 | E16: lump-sum | G16: =D16*F16 -> 0
A17: d7 | B17: Estimated costs associated with the spare parts and consumables of the Device for 30 years | D17: 1 | E17: complete | F17: ='2. Annex 9 Contract_Spare parts'!I157+'2. Annex 9 Contract_Spare parts'!I244 -> #DIV/0! | G17: =D17*F17 -> #DIV/0!
A18: d8 | B18: Preventive inspections (in accordance with the Art. V (5) point a) of the Draft Contract 1) | D18: 1 | E18: complete | F18: ='3. Annex10 - Preventive Inspec.'!I26 -> 0 | G18: =D18*F18 -> 0
A19: d9 | B19: The Purchase Price for the Machine (existing) of the Contracting Authority (*1) | C19: in accordance with the Art.IV of the Draft Contract 2 | D19: 1 | E19: complete | G19: =D19*F19 -> 0
A20: Total tender Price (for evaluation purpose only) | C20: =SUM(G5:G18)-G19 -> #DIV/0!
A22: Participant shall fill in all yellow parts with prices (in cell D3 - Lifetime (years)).

Sheet 2. Annex 9 Contract_Spare parts
A1: Annex No. 5 of Tender Documentation - "Evaluation Model" - Spare Parts and Consumables (30 years) // Annex No. 9 of the Draft Contract 1 - "List of spare parts and consumables"
A2: Public Contract "Supply of a passport production line including numbering_reissue // Dodávka pasové linky včetně číslování_znovuvyhlášení"
A4: Detailed overview of consumables of the Device:
A5: 30 years of operation
A6: Item Nr. | B6: Type of material / consumable | C6: Notice | D6: Description | E6: Estimated frequency of need per 1 year (number) (*2) | F6: Unit | G6: Price/1 Unit (EUR excl.VAT) | H6: Estimated consumption in 30 years | I6: Total tender price
A7: c1 | B7: Spine tape | C7: production is on average 750 000 passport books per year | F7: m | H7: =E7*30 -> 0 | I7: =G7*H7 -> 0
A8: c2 | B8: Hotmelt glue | C8: production is on average 750 000 passport books per year | F8: kg | H8: =E8*30 -> 0 | I8: =G8*H8 -> 0
A9: c3 | B9: Stamping numbering tape | C9: production is on average 750 000 passport books per year | F9: pcs. | H9: =E9*30 -> 0 | I9: =G9*H9 -> 0
A10: c4 | H10: =E10*30 -> 0 | I10: =G10*H10 -> 0
A11: c5 | H11: =E11*30 -> 0 | I11: =G11*H11 -> 0
A12: c6 | H12: =E12*30 -> 0 | I12: =G12*H12 -> 0
A13: c7 | H13: =E13*30 -> 0 | I13: =G13*H13 -> 0
A14: c8 | H14: =E14*30 -> 0 | I14: =G14*H14 -> 0
A15: c9 | H15: =E15*30 -> 0 | I15: =G15*H15 -> 0
A16: c10 | H16: =E16*30 -> 0 | I16: =G16*H16 -> 0
A17: c11 | H17: =E17*30 -> 0 | I17: =G17*H17 -> 0
A18: c12 | H18: =E18*30 -> 0 | I18: =G18*H18 -> 0
A19: c13 | H19: =E19*30 -> 0 | I19: =G19*H19 -> 0
A20: c14 | H20: =E20*30 -> 0 | I20: =G20*H20 -> 0
A21: c15 | H21: =E21*30 -> 0 | I21: =G21*H21 -> 0
... A156: c150 | H156: =E156*30 -> 0 | I156: =G156*H156 -> 0
A157: Total tender price for consumables over 30 years (for evaluation purposes): | I157: =SUM(I7:I156) -> 0
A159: Detailed overview of spare parts of the Device:
A160: 30 years of operation
A161: Item Nr. | B161: Type of material / spare part | C161: Notice | D161: Description | E161: Estimated frequency of need for lifetime of the offered Device | F161: Unit | G161: Price/1 Unit (EUR excl.VAT) | H161: Tender price - for the lifetime of the offered Device | I161: Recalculation - frequencyof need in 30 years (*3)
A162: 0 | B162: e.g. abc123 | C162: PLC | D162: PLC in the control system | E162: 60 | F162: pcs. | G162: 999 | H162: =E162*G162 -> 59940 | I162: =(H162/'1. Evaluation Model Complete'!$D$3)*30 -> #DIV/0!
A163: 0 | B163: e.g. abc124 | C163: laser set | D163: Laser set for the perforation | E163: 3 | F163: pcs. | G163: 999 | H163: =E163*G163 -> 2997 | I163: =(H163/'1. Evaluation Model Complete'!$D$3)*30 -> #DIV/0!
A164: sp1 | H164: =E164*G164 -> 0 | I164: =(H164/'1. Evaluation Model Complete'!$D$3)*30 -> #DIV/0!
A165: sp2 | H165: =E165*G165 -> 0 | I165: =(H165/'1. Evaluation Model Complete'!$D$3)*30 -> #DIV/0!
A166: sp3 | H166: =E166*G166 -> 0 | I166: =(H166/'1. Evaluation Model Complete'!$D$3)*30 -> #DIV/0!
A167: sp4 | H167: =E167*G167 -> 0 | I167: =(H167/'1. Evaluation Model Complete'!$D$3)*30 -> #DIV/0!
A168: sp5 | H168: =E168*G168 -> 0 | I168: =(H168/'1. Evaluation Model Complete'!$D$3)*30 -> #DIV/0!
A169: sp6 | H169: =E169*G169 -> 0 | I169: =(H169/'1. Evaluation Model Complete'!$D$3)*30 -> #DIV/0!
A170: sp7 | H170: =E170*G170 -> 0 | I170: =(H170/'1. Evaluation Model Complete'!$D$3)*30 -> #DIV/0!
A171: sp8 | H171: =E171*G171 -> 0 | I171: =(H171/'1. Evaluation Model Complete'!$D$3)*30 -> #DIV/0!
A172: sp9 | H172: =E172*G172 -> 0 | I172: =(H172/'1. Evaluation Model Complete'!$D$3)*30 -> #DIV/0!
A173: sp10 | H173: =E173*G173 -> 0 | I173: =(H173/'1. Evaluation Model Complete'!$D$3)*30 -> #DIV/0!
A174: sp11 | H174: =E174*G174 -> 0 | I174: =(H174/'1. Evaluation Model Complete'!$D$3)*30 -> #DIV/0!
A175: sp12 | H175: =E175*G175 -> 0 | I175: =(H175/'1. Evaluation Model Complete'!$D$3)*30 -> #DIV/0!
... A243: sp80 | H243: =E243*G243 -> 0 | I243: =(H243/'1. Evaluation Model Complete'!$D$3)*30 -> #DIV/0!
...

Sheet 3. Annex10 - Preventive Inspec.
A1: Annex No. 5 of Tender Documentation - "Evaluation Model" - Preventive inspections // Annex No. 10 of the Draft Contract 1 - "Preventive inspections"
A2: Public Contract "Supply of a passport production line including numbering_reissue // Dodávka pasové linky včetně číslování_znovuvyhlášení"
A4: Detailed overview of carrying out preventive inspections:
A5: 30 years of operation
A6: Item Nr. | B6: Module No. (according to the number of modules of the supplier) (*5) | C6: Note | D6: Description | E6: Recommended frequency in 1 year (number) (*4) | F6: Estimated duration in 1 year (hours) | G6: Recalculation - frequency in 30 years | H6: Price/hour (*7) | I6: Total price
A7: Pattern for filling:
A8: pi1a | C8: Preventive inspection - (in accordance with the Art. V (5) point a) of the Draft Contract 1) - mechanical engineer, instructor | G8: =E8*F8*30 -> 0 | H8: ='1. Evaluation Model Complete'!$F$7 -> 0 | I8: =G8*H8 -> 0
A9: pi1b | C9: Preventive inspection - (in accordance with the Art. V (5) point a) of the Draft Contract 1) - electrical engineer, specialist | G9: =E9*F9*30 -> 0 | H9: ='1. Evaluation Model Complete'!$F$8 -> 0 | I9: =G9*H9 -> 0
A10: pi1c | C10: Preventive inspection - (in accordance with the Art. V (5) point a) of the Draft Contract 1) - SW specialist (*6) | G10: =E10*F10*30 -> 0 | H10: ='1. Evaluation Model Complete'!$F$9 -> 0 | I10: =G10*H10 -> 0
A11: pi2a | C11: Preventive inspection - (in accordance with the Art. V (5) point a) of the Draft Contract 1) - mechanical engineer, instructor | G11: =E11*F11*30 -> 0 | H11: ='1. Evaluation Model Complete'!$F$7 -> 0 | I11: =G11*H11 -> 0
A12: pi2b | C12: Preventive inspection - (in accordance with the Art. V (5) point a) of the Draft Contract 1) - electrical engineer, specialist | G12: =E12*F12*30 -> 0 | H12: ='1. Evaluation Model Complete'!$F$8 -> 0 | I12: =G12*H12 -> 0
A13: pi2c | C13: Preventive inspection - (in accordance with the Art. V (5) point a) of the Draft Contract 1) - SW specialist (*6) | G13: =E13*F13*30 -> 0 | H13: ='1. Evaluation Model Complete'!$F$9 -> 0 | I13: =G13*H13 -> 0
A14: pi3a | C14: Preventive inspection - (in accordance with the Art. V (5) point a) of the Draft Contract 1) - mechanical engineer, instructor | G14: =E14*F14*30 -> 0 | H14: ='1. Evaluation Model Complete'!$F$7 -> 0 | I14: =G14*H14 -> 0
A15: pi3b | C15: Preventive inspection - (in accordance with the Art. V (5) point a) of the Draft Contract 1) - electrical engineer, specialist | G15: =E15*F15*30 -> 0 | H15: ='1. Evaluation Model Complete'!$F$8 -> 0 | I15: =G15*H15 -> 0
A16: pi3c | C16: Preventive inspection - (in accordance with the Art. V (5) point a) of the Draft Contract 1) - SW specialist (*6) | G16: =E16*F16*30 -> 0 | H16: ='1. Evaluation Model Complete'!$F$9 -> 0 | I16: =G16*H16 -> 0
A17: pi4a | C17: Preventive inspection - (in accordance with the Art. V (5) point a) of the Draft Contract 1) - mechanical engineer, instructor | G17: =E17*F17*30 -> 0 | H17: ='1. Evaluation Model Complete'!$F$7 -> 0 | I17: =G17*H17 -> 0
A18: pi4b | C18: Preventive inspection - (in accordance with the Art. V (5) point a) of the Draft Contract 1) - electrical engineer, specialist | G18: =E18*F18*30 -> 0 | H18: ='1. Evaluation Model Complete'!$F$8 -> 0 | I18: =G18*H18 -> 0
A19: pi4c | C19: Preventive inspection - (in accordance with the Art. V (5) point a) of the Draft Contract) - SW specialist (*6) | G19: =E19*F19*30 -> 0 | H19: ='1. Evaluation Model Complete'!$F$9 -> 0 | I19: =G19*H19 -> 0
A20: pi5a | C20: Preventive inspection - (in accordance with the Art. V (5) point a) of the Draft Contract 1) - mechanical engineer, instructor | G20: =E20*F20*30 -> 0 | H20: ='1. Evaluation Model Complete'!$F$7 -> 0 | I20: =G20*H20 -> 0
A21: pi5b | C21: Preventive inspection - (in accordance with the Art. V (5) point a) of the Draft Contract 1) - electrical engineer, specialist | G21: =E21*F21*30 -> 0 | H21: ='1. Evaluation Model Complete'!$F$8 -> 0 | I21: =G21*H21 -> 0
A22: pi5c | C22: Preventive inspection - (in accordance with the Art. V (5) point a) of the Draft Contract 1) - SW specialist (*6) | G22: =E22*F22*30 -> 0 | H22: ='1. Evaluation Model Complete'!$F$9 -> 0 | I22: =G22*H22 -> 0
A23: pi6a | C23: Preventive inspection - (in accordance with the Art. V (5) point a) of the Draft Contract 1) - mechanical engineer, instructor | G23: =E23*F23*30 -> 0 | H23: ='1. Evaluation Model Complete'!$F$7 -> 0 | I23: =G23*H23 -> 0
A24: pi6b | C24: Preventive inspection - (in accordance with the Art. V (5) point a) of the Draft Contract 1) - electrical engineer, specialist | G24: =E24*F24*30 -> 0 | H24: ='1. Evaluation Model Complete'!$F$8 -> 0 | I24: =G24*H24 -> 0
A25: pi6c | C25: Preventive inspection - (in accordance with the Art. V (5) point a) of the Draft Contract 1) - SW specialist (*6) | G25: =E25*F25*30 -> 0 | H25: ='1. Evaluation Model Complete'!$F$9 -> 0 | I25: =G25*H25 -> 0
A26: Total tender price for 30 years (for evaluation purposes): | I26: =SUM(I8:I25) -> 0
A28: This sheet will Annex No.10 of the Draft Contract 1. Unused blank lines will be removed.
A29: Participant shall fill in all yellow parts, in as many lines as necessary. The Participant can fill in a zero if there is no need for a preventive inspection.
